BEGIN:VCALENDAR
VERSION:2.0
PRODID:-//Vassbo Träningscenter - ECPv6.0.9//NONSGML v1.0//EN
CALSCALE:GREGORIAN
METHOD:PUBLISH
X-ORIGINAL-URL:https://vassbotraningscenter.se
X-WR-CALDESC:Events for Vassbo Träningscenter
REFRESH-INTERVAL;VALUE=DURATION:PT1H
X-Robots-Tag:noindex
X-PUBLISHED-TTL:PT1H
BEGIN:VTIMEZONE
TZID:Europe/Paris
BEGIN:DAYLIGHT
TZOFFSETFROM:+0100
TZOFFSETTO:+0200
TZNAME:CEST
DTSTART:20250330T010000
END:DAYLIGHT
BEGIN:STANDARD
TZOFFSETFROM:+0200
TZOFFSETTO:+0100
TZNAME:CET
DTSTART:20251026T010000
END:STANDARD
END:VTIMEZONE
BEGIN:VEVENT
DTSTART;TZID=Europe/Paris:20250517T090000
DTEND;TZID=Europe/Paris:20250517T110000
DTSTAMP:20260423T203638
CREATED:20250510T183638Z
LAST-MODIFIED:20250510T183638Z
UID:7975-1747472400-1747479600@vassbotraningscenter.se
SUMMARY:Eurovision-Fys
DESCRIPTION:Träna till finalens alla låtar!\n17 maj kl 09.00 på Vassbo Träningscenter\n\nVälkommen till ett galet roligt\, svettigt och festligt\nträningsevent 🎈✨\n\nVi värmer upp med glitter i blicken och sen kör vi\nigång: 26 låtar x 3 minuter träning – varje låt får sin\negen rörelsefest. Puls\, styrka\, flås och skratt i en salig\nblandning\, precis som i Eurovision. Det blir ös\, det blir\nglädje och ja – det blir jobbigt. Men vi vilar mitt i allt –\nför då dukar jag upp med dadelbollar\, frukt\, äppelmust\noch kaffe.\n\nDu behöver inte kunna alla låtar\, inte heller dansa –\nmen du behöver vilja röra på dig med ett leende och\nkänna kraften i gemenskapen.\n\n🎶 Kom som du är – i träningskläder\, med öppet sinne\noch redo att svettas i takt med Europas bästa hits!\n\nTid: 09.00–ca 11.00\nPlats: Vassbo Träningscenter\nPris: 200 kr (inkl fika)\, 50 kr för medlemmar\nAnmälan: Via BokaDirekt\, välj Cirkelfys Special\n\n✨ Let’s get physical – Eurovision style! ✨
URL:https://vassbotraningscenter.se/event/eurovision-fys/
LOCATION:Vassbo Träningscenter\, Vassbo 42\, FALUN\, Dalarnas län\, 791 93\, Sverige
END:VEVENT
END:VCALENDAR