BEGIN:VCALENDAR
VERSION:2.0
PRODID:-//Vassbo Träningscenter - ECPv6.0.9//NONSGML v1.0//EN
CALSCALE:GREGORIAN
METHOD:PUBLISH
X-ORIGINAL-URL:https://vassbotraningscenter.se
X-WR-CALDESC:Events for Vassbo Träningscenter
REFRESH-INTERVAL;VALUE=DURATION:PT1H
X-Robots-Tag:noindex
X-PUBLISHED-TTL:PT1H
BEGIN:VTIMEZONE
TZID:Europe/Paris
BEGIN:DAYLIGHT
TZOFFSETFROM:+0100
TZOFFSETTO:+0200
TZNAME:CEST
DTSTART:20250330T010000
END:DAYLIGHT
BEGIN:STANDARD
TZOFFSETFROM:+0200
TZOFFSETTO:+0100
TZNAME:CET
DTSTART:20251026T010000
END:STANDARD
END:VTIMEZONE
BEGIN:VEVENT
DTSTART;TZID=Europe/Paris:20250308T090000
DTEND;TZID=Europe/Paris:20250308T230000
DTSTAMP:20260423T225544
CREATED:20250217T080027Z
LAST-MODIFIED:20250304T121935Z
UID:7917-1741424400-1741474800@vassbotraningscenter.se
SUMMARY:Träning & Frukost
DESCRIPTION:Välkommen hit på:\n”En energifylld morgon i Vassbo” lördagen den 8 mars!\nVi träffas kl 9.00 och kör ett 60 min långt Cirkelfys-pass följt av 15\nmin rörlighet/stretch efteråt.\nEfter träningen dukar jag fram en härligt god\, hälsosam & hemlagad\nfrukost.\nKostnad: 295 kr\nSom medlem på Vassbo Träningscenter betalar du 150kr.\n\nBoka din plats på BokaDirekt!\nBoka din plats här!\n\nJag hoppas vi ses!\nMatilda
URL:https://vassbotraningscenter.se/event/traning-frukost-3/
LOCATION:Vassbo Träningscenter\, Vassbo 42\, FALUN\, Dalarnas län\, 791 93\, Sverige
ATTACH;FMTTYPE=image/png:https://vassbotraningscenter.se/wp-content/uploads/2024/11/Träning-frukost.png
END:VEVENT
END:VCALENDAR